Package: goSorensen Version: 1.8.0 Command: /home/biocbuild/bbs-3.20-bioc/R/bin/R CMD check --install=check:goSorensen.install-out.txt --library=/home/biocbuild/bbs-3.20-bioc/R/site-library --timings goSorensen_1.8.0.tar.gz StartedAt: 2025-02-03 22:55:27 -0500 (Mon, 03 Feb 2025) EndedAt: 2025-02-03 23:11:33 -0500 (Mon, 03 Feb 2025) EllapsedTime: 966.2 seconds RetCode: 0 Status: OK CheckDir: goSorensen.Rcheck Warnings: 0