Package: goSorensen
Version: 1.7.0
Command: F:\biocbuild\bbs-3.20-bioc\R\bin\R.exe CMD check --no-multiarch --install=check:goSorensen.install-out.txt --library=F:\biocbuild\bbs-3.20-bioc\R\library --no-vignettes --timings goSorensen_1.7.0.tar.gz
StartedAt: 2024-06-10 03:28:45 -0400 (Mon, 10 Jun 2024)
EndedAt: 2024-06-10 03:58:27 -0400 (Mon, 10 Jun 2024)
EllapsedTime: 1782.2 seconds
RetCode: 0
Status: OK
CheckDir: goSorensen.Rcheck
Warnings: 0