Package: goSorensen Version: 1.8.0 Command: rm -rf goSorensen.buildbin-libdir && mkdir goSorensen.buildbin-libdir && F:\biocbuild\bbs-3.20-bioc\R\bin\R.exe CMD INSTALL --build --library=goSorensen.buildbin-libdir goSorensen_1.8.0.tar.gz StartedAt: 2025-02-04 08:38:45 -0500 (Tue, 04 Feb 2025) EndedAt: 2025-02-04 08:39:38 -0500 (Tue, 04 Feb 2025) EllapsedTime: 52.9 seconds RetCode: 0 Status: OK PackageFile: goSorensen_1.8.0.zip PackageFileSize: 1.617 MiB