##############################################################################
##############################################################################
###
### Running command:
###
###   chmod a+r goSorensen -R && F:\biocbuild\bbs-3.20-bioc\R\bin\R.exe CMD build --keep-empty-dirs --no-resave-data goSorensen
###
##############################################################################
##############################################################################


* checking for file 'goSorensen/DESCRIPTION' ... OK
* preparing 'goSorensen':
* checking DESCRIPTION meta-information ... OK
* installing the package to build vignettes
* creating vignettes ... OK
Warning: 'inst/doc' files
    'README.Rmd', 'goSorensen_Introduction.Rmd',  'irrelevance-threshold_Matrix_Dissimilarities.Rmd', 'README.html',  'goSorensen_Introduction.html',  'irrelevance-threshold_Matrix_Dissimilarities.html', 'README.R',  'goSorensen_Introduction.R',  'irrelevance-threshold_Matrix_Dissimilarities.R'
  ignored as vignettes have been rebuilt.
  Run R CMD build with --no-build-vignettes to prevent rebuilding.
* checking for LF line-endings in source and make files and shell scripts
* checking for empty or unneeded directories
* looking to see if a 'data/datalist' file should be added
* building 'goSorensen_1.8.0.tar.gz'