Package: goTools Version: 1.80.0 Command: /Library/Frameworks/R.framework/Resources/bin/R CMD build --keep-empty-dirs --no-resave-data goTools StartedAt: 2025-02-04 00:51:14 -0500 (Tue, 04 Feb 2025) EndedAt: 2025-02-04 00:51:43 -0500 (Tue, 04 Feb 2025) EllapsedTime: 28.8 seconds RetCode: 0 Status: OK PackageFile: goTools_1.80.0.tar.gz PackageFileSize: 241.7 KiB