Package: goTools Version: 1.80.0 Command: rm -rf goTools.buildbin-libdir && mkdir goTools.buildbin-libdir && F:\biocbuild\bbs-3.20-bioc\R\bin\R.exe CMD INSTALL --build --library=goTools.buildbin-libdir goTools_1.80.0.tar.gz StartedAt: 2025-02-04 08:38:51 -0500 (Tue, 04 Feb 2025) EndedAt: 2025-02-04 08:39:11 -0500 (Tue, 04 Feb 2025) EllapsedTime: 20.0 seconds RetCode: 0 Status: OK PackageFile: goTools_1.80.0.zip PackageFileSize: 127.1 KiB