Package: goTools Version: 1.80.0 Command: F:\biocbuild\bbs-3.20-bioc\R\bin\R.exe CMD INSTALL goTools StartedAt: 2025-02-03 15:58:12 -0500 (Mon, 03 Feb 2025) EndedAt: 2025-02-03 15:58:30 -0500 (Mon, 03 Feb 2025) EllapsedTime: 18.4 seconds RetCode: 0 Status: OK