Package: goTools Version: 1.80.0 Command: /home/biocbuild/R/R/bin/R CMD INSTALL goTools StartedAt: 2025-02-03 20:37:07 -0000 (Mon, 03 Feb 2025) EndedAt: 2025-02-03 20:37:26 -0000 (Mon, 03 Feb 2025) EllapsedTime: 18.7 seconds RetCode: 0 Status: OK