Package: goTools Version: 1.80.0 Command: /home/biocbuild/bbs-3.20-bioc/R/bin/R CMD build --keep-empty-dirs --no-resave-data goTools StartedAt: 2024-11-19 19:18:40 -0500 (Tue, 19 Nov 2024) EndedAt: 2024-11-19 19:18:56 -0500 (Tue, 19 Nov 2024) EllapsedTime: 16.0 seconds RetCode: 0 Status: OK PackageFile: goTools_1.80.0.tar.gz PackageFileSize: 242.1 KiB