Package: gpls
Version: 1.78.0
Command: /home/biocbuild/bbs-3.20-bioc/R/bin/R CMD check --install=check:gpls.install-out.txt --library=/home/biocbuild/bbs-3.20-bioc/R/site-library --timings gpls_1.78.0.tar.gz
StartedAt: 2025-02-17 22:40:16 -0500 (Mon, 17 Feb 2025)
EndedAt: 2025-02-17 22:40:39 -0500 (Mon, 17 Feb 2025)
EllapsedTime: 23.0 seconds
RetCode: 0
Status: WARNINGS
CheckDir: gpls.Rcheck
Warnings: 1