Package: gpls
Version: 1.77.0
Command: F:\biocbuild\bbs-3.20-bioc\R\bin\R.exe CMD INSTALL gpls
StartedAt: 2024-06-09 15:39:37 -0400 (Sun, 09 Jun 2024)
EndedAt: 2024-06-09 15:39:54 -0400 (Sun, 09 Jun 2024)
EllapsedTime: 17.3 seconds
RetCode: 0
Status: OK