Package: gpls
Version: 1.77.0
Command: chmod a+r gpls -R && C:\Users\biocbuild\bbs-3.20-bioc\R\bin\R.exe CMD build --keep-empty-dirs --no-resave-data gpls
StartedAt: 2024-07-15 18:27:20 -0400 (Mon, 15 Jul 2024)
EndedAt: 2024-07-15 18:27:34 -0400 (Mon, 15 Jul 2024)
EllapsedTime: 14.0 seconds
RetCode: 0
Status: OK
PackageFile: gpls_1.77.0.tar.gz
PackageFileSize: 103.2 <A href="http://en.wikipedia.org/wiki/KiB" target="_blank">KiB</A>