Package: gpls Version: 1.78.0 Command: rm -rf gpls.buildbin-libdir && mkdir gpls.buildbin-libdir && F:\biocbuild\bbs-3.20-bioc\R\bin\R.exe CMD INSTALL --build --library=gpls.buildbin-libdir gpls_1.78.0.tar.gz StartedAt: 2025-02-04 08:38:55 -0500 (Tue, 04 Feb 2025) EndedAt: 2025-02-04 08:39:05 -0500 (Tue, 04 Feb 2025) EllapsedTime: 9.6 seconds RetCode: 0 Status: OK PackageFile: gpls_1.78.0.zip PackageFileSize: 168.2 KiB