Package: gpls Version: 1.78.0 Command: F:\biocbuild\bbs-3.20-bioc\R\bin\R.exe CMD INSTALL gpls StartedAt: 2025-02-03 15:31:24 -0500 (Mon, 03 Feb 2025) EndedAt: 2025-02-03 15:31:33 -0500 (Mon, 03 Feb 2025) EllapsedTime: 9.3 seconds RetCode: 0 Status: OK