Package: gpls Version: 1.78.0 Command: /home/biocbuild/R/R/bin/R CMD build --keep-empty-dirs --no-resave-data gpls StartedAt: 2025-02-04 00:04:52 -0000 (Tue, 04 Feb 2025) EndedAt: 2025-02-04 00:05:02 -0000 (Tue, 04 Feb 2025) EllapsedTime: 10.0 seconds RetCode: 0 Status: OK PackageFile: gpls_1.78.0.tar.gz PackageFileSize: 226.2 KiB