Package: gpls Version: 1.78.0 Command: /home/biocbuild/R/R/bin/R CMD check --install=check:gpls.install-out.txt --library=/home/biocbuild/R/R/site-library --no-vignettes --timings gpls_1.78.0.tar.gz StartedAt: 2025-02-04 07:36:56 -0000 (Tue, 04 Feb 2025) EndedAt: 2025-02-04 07:37:16 -0000 (Tue, 04 Feb 2025) EllapsedTime: 20.0 seconds RetCode: 0 Status: WARNINGS CheckDir: gpls.Rcheck Warnings: 1