Package: gpls Version: 1.78.0 Command: /home/biocbuild/R/R/bin/R CMD INSTALL gpls StartedAt: 2025-02-03 20:21:22 -0000 (Mon, 03 Feb 2025) EndedAt: 2025-02-03 20:21:34 -0000 (Mon, 03 Feb 2025) EllapsedTime: 11.9 seconds RetCode: 0 Status: OK