Package: gpuMagic Version: 1.22.0 Command: /Library/Frameworks/R.framework/Resources/bin/R CMD build --keep-empty-dirs --no-resave-data gpuMagic StartedAt: 2025-02-04 00:52:00 -0500 (Tue, 04 Feb 2025) EndedAt: 2025-02-04 00:52:31 -0500 (Tue, 04 Feb 2025) EllapsedTime: 30.9 seconds RetCode: 1 Status: ERROR PackageFile: None PackageFileSize: NA