Package: gpuMagic Version: 1.22.0 Command: /Library/Frameworks/R.framework/Resources/bin/R CMD check --install=check:gpuMagic.install-out.txt --library=/Library/Frameworks/R.framework/Resources/library --no-vignettes --timings gpuMagic_1.22.0.tar.gz StartedAt: 2025-02-04 04:37:28 -0500 (Tue, 04 Feb 2025) EndedAt: 2025-02-04 04:41:40 -0500 (Tue, 04 Feb 2025) EllapsedTime: 252.1 seconds RetCode: 0 Status: WARNINGS CheckDir: gpuMagic.Rcheck Warnings: 1