Package: gpuMagic Version: 1.22.0 Command: /home/biocbuild/bbs-3.20-bioc/R/bin/R CMD build --keep-empty-dirs --no-resave-data --md5 gpuMagic StartedAt: 2025-02-03 17:40:44 -0500 (Mon, 03 Feb 2025) EndedAt: 2025-02-03 17:41:19 -0500 (Mon, 03 Feb 2025) EllapsedTime: 35.0 seconds RetCode: 0 Status: OK PackageFile: gpuMagic_1.22.0.tar.gz PackageFileSize: 739.9 KiB