Package: gpuMagic Version: 1.22.0 Command: chmod a+r gpuMagic -R && F:\biocbuild\bbs-3.20-bioc\R\bin\R.exe CMD build --keep-empty-dirs --no-resave-data gpuMagic StartedAt: 2025-02-10 19:27:47 -0500 (Mon, 10 Feb 2025) EndedAt: 2025-02-10 19:28:56 -0500 (Mon, 10 Feb 2025) EllapsedTime: 68.2 seconds RetCode: 0 Status: OK PackageFile: gpuMagic_1.22.0.tar.gz PackageFileSize: 737.6 KiB