Package: gpuMagic Version: 1.22.0 Command: /home/biocbuild/R/R/bin/R CMD build --keep-empty-dirs --no-resave-data gpuMagic StartedAt: 2025-02-04 00:05:02 -0000 (Tue, 04 Feb 2025) EndedAt: 2025-02-04 00:05:06 -0000 (Tue, 04 Feb 2025) EllapsedTime: 4.0 seconds RetCode: 1 Status: ERROR PackageFile: None PackageFileSize: NA