Package: graper
Version: 1.22.0
Maintainer: Britta Velten
MaintainerEmail: britta.velten at gmail.com
git_url: https://git.bioconductor.org/packages/graper
git_branch: RELEASE_3_20
git_last_commit: 04d5a90
git_last_commit_date: 2024-10-29 10:33:50 -0500 (Tue, 29 Oct 2024)