Package: graper
Version: 1.22.0
Command: /Library/Frameworks/R.framework/Resources/bin/R CMD INSTALL graper
StartedAt: 2025-02-17 15:38:01 -0500 (Mon, 17 Feb 2025)
EndedAt: 2025-02-17 15:38:11 -0500 (Mon, 17 Feb 2025)
EllapsedTime: 10.3 seconds
RetCode: 1
Status: ERROR