Package: graper Version: 1.22.0 Command: /Library/Frameworks/R.framework/Resources/bin/R CMD check --install=check:graper.install-out.txt --library=/Library/Frameworks/R.framework/Resources/library --no-vignettes --timings graper_1.22.0.tar.gz StartedAt: 2024-11-19 22:45:46 -0500 (Tue, 19 Nov 2024) EndedAt: 2024-11-19 22:50:23 -0500 (Tue, 19 Nov 2024) EllapsedTime: 276.7 seconds RetCode: 0 Status: WARNINGS CheckDir: graper.Rcheck Warnings: 1