Package: graper Version: 1.22.0 Command: /Library/Frameworks/R.framework/Resources/bin/R CMD INSTALL graper StartedAt: 2025-02-03 15:26:15 -0500 (Mon, 03 Feb 2025) EndedAt: 2025-02-03 15:26:40 -0500 (Mon, 03 Feb 2025) EllapsedTime: 25.6 seconds RetCode: 1 Status: ERROR