Package: graper Version: 1.22.0 Command: /home/biocbuild/R/R/bin/R CMD INSTALL graper StartedAt: 2025-02-03 20:29:21 -0000 (Mon, 03 Feb 2025) EndedAt: 2025-02-03 20:29:40 -0000 (Mon, 03 Feb 2025) EllapsedTime: 19.4 seconds RetCode: 1 Status: ERROR