Package: graph Version: 1.84.1 Command: /Library/Frameworks/R.framework/Resources/bin/R CMD INSTALL graph StartedAt: 2025-02-03 15:14:18 -0500 (Mon, 03 Feb 2025) EndedAt: 2025-02-03 15:14:34 -0500 (Mon, 03 Feb 2025) EllapsedTime: 15.7 seconds RetCode: 0 Status: OK