Package: graph Version: 1.84.1 Command: /Library/Frameworks/R.framework/Resources/bin/R CMD build --keep-empty-dirs --no-resave-data graph StartedAt: 2025-01-30 19:34:47 -0500 (Thu, 30 Jan 2025) EndedAt: 2025-01-30 19:36:05 -0500 (Thu, 30 Jan 2025) EllapsedTime: 77.8 seconds RetCode: 0 Status: OK PackageFile: graph_1.84.1.tar.gz PackageFileSize: 1.435 MiB