Package: graph Version: 1.84.1 Command: /home/biocbuild/bbs-3.20-bioc/R/bin/R CMD build --keep-empty-dirs --no-resave-data --md5 graph StartedAt: 2025-01-30 17:31:33 -0500 (Thu, 30 Jan 2025) EndedAt: 2025-01-30 17:32:02 -0500 (Thu, 30 Jan 2025) EllapsedTime: 29.0 seconds RetCode: 0 Status: OK PackageFile: graph_1.84.1.tar.gz PackageFileSize: 1.435 MiB