Package: graph Version: 1.84.1 Command: rm -rf graph.buildbin-libdir && mkdir graph.buildbin-libdir && F:\biocbuild\bbs-3.20-bioc\R\bin\R.exe CMD INSTALL --build --library=graph.buildbin-libdir graph_1.84.1.tar.gz StartedAt: 2025-01-31 08:47:37 -0500 (Fri, 31 Jan 2025) EndedAt: 2025-01-31 08:49:00 -0500 (Fri, 31 Jan 2025) EllapsedTime: 82.9 seconds RetCode: 0 Status: OK PackageFile: graph_1.84.1.zip PackageFileSize: 2.073 MiB