Package: graph Version: 1.84.1 Command: F:\biocbuild\bbs-3.20-bioc\R\bin\R.exe CMD INSTALL graph StartedAt: 2025-01-30 15:21:54 -0500 (Thu, 30 Jan 2025) EndedAt: 2025-01-30 15:23:52 -0500 (Thu, 30 Jan 2025) EllapsedTime: 118.5 seconds RetCode: 0 Status: OK