Package: graph Version: 1.84.1 Command: /home/biocbuild/R/R/bin/R CMD build --keep-empty-dirs --no-resave-data graph StartedAt: 2025-01-31 00:06:24 -0000 (Fri, 31 Jan 2025) EndedAt: 2025-01-31 00:07:05 -0000 (Fri, 31 Jan 2025) EllapsedTime: 41.0 seconds RetCode: 0 Status: OK PackageFile: graph_1.84.1.tar.gz PackageFileSize: 1.514 MiB