Package: graphite Version: 1.52.0 Command: /Library/Frameworks/R.framework/Resources/bin/R CMD check --install=check:graphite.install-out.txt --library=/Library/Frameworks/R.framework/Resources/library --no-vignettes --timings graphite_1.52.0.tar.gz StartedAt: 2025-02-04 21:53:14 -0500 (Tue, 04 Feb 2025) EndedAt: 2025-02-04 21:57:15 -0500 (Tue, 04 Feb 2025) EllapsedTime: 241.5 seconds RetCode: 0 Status: OK CheckDir: graphite.Rcheck Warnings: 0