Package: graphite Version: 1.52.0 Command: rm -rf graphite.buildbin-libdir && mkdir graphite.buildbin-libdir && /Users/biocbuild/BBS/utils/build-universal.sh graphite_1.52.0.tar.gz /Library/Frameworks/R.framework/Resources/bin/R graphite.buildbin-libdir StartedAt: 2025-02-04 13:06:25 -0500 (Tue, 04 Feb 2025) EndedAt: 2025-02-04 13:07:04 -0500 (Tue, 04 Feb 2025) EllapsedTime: 39.3 seconds RetCode: 0 Status: OK PackageFile: graphite_1.52.0.tgz PackageFileSize: 898.8 KiB