Package: graphite Version: 1.52.0 Command: F:\biocbuild\bbs-3.20-bioc\R\bin\R.exe CMD check --no-multiarch --install=check:graphite.install-out.txt --library=F:\biocbuild\bbs-3.20-bioc\R\library --no-vignettes --timings graphite_1.52.0.tar.gz StartedAt: 2025-02-04 02:29:54 -0500 (Tue, 04 Feb 2025) EndedAt: 2025-02-04 02:34:26 -0500 (Tue, 04 Feb 2025) EllapsedTime: 271.8 seconds RetCode: 0 Status: OK CheckDir: graphite.Rcheck Warnings: 0