Package: graphite Version: 1.52.0 Command: /home/biocbuild/R/R/bin/R CMD build --keep-empty-dirs --no-resave-data graphite StartedAt: 2025-02-04 00:07:01 -0000 (Tue, 04 Feb 2025) EndedAt: 2025-02-04 00:08:11 -0000 (Tue, 04 Feb 2025) EllapsedTime: 70.0 seconds RetCode: 0 Status: OK PackageFile: graphite_1.52.0.tar.gz PackageFileSize: 758.7 KiB