Package: graphite Version: 1.52.0 Command: /home/biocbuild/R/R/bin/R CMD check --install=check:graphite.install-out.txt --library=/home/biocbuild/R/R/site-library --no-vignettes --timings graphite_1.52.0.tar.gz StartedAt: 2025-02-04 07:38:14 -0000 (Tue, 04 Feb 2025) EndedAt: 2025-02-04 07:43:16 -0000 (Tue, 04 Feb 2025) EllapsedTime: 301.4 seconds RetCode: 0 Status: OK CheckDir: graphite.Rcheck Warnings: 0