Package: graphite Version: 1.52.0 Command: /home/biocbuild/R/R/bin/R CMD INSTALL graphite StartedAt: 2025-02-03 20:36:26 -0000 (Mon, 03 Feb 2025) EndedAt: 2025-02-03 20:36:45 -0000 (Mon, 03 Feb 2025) EllapsedTime: 18.8 seconds RetCode: 0 Status: OK