Package: groHMM Version: 1.40.3 Command: /Library/Frameworks/R.framework/Resources/bin/R CMD build --keep-empty-dirs --no-resave-data groHMM StartedAt: 2025-02-04 00:59:30 -0500 (Tue, 04 Feb 2025) EndedAt: 2025-02-04 01:02:07 -0500 (Tue, 04 Feb 2025) EllapsedTime: 157.8 seconds RetCode: 0 Status: OK PackageFile: groHMM_1.40.3.tar.gz PackageFileSize: 4.153 MiB