Package: groHMM Version: 1.40.3 Command: /Library/Frameworks/R.framework/Resources/bin/R CMD check --install=check:groHMM.install-out.txt --library=/Library/Frameworks/R.framework/Resources/library --no-vignettes --timings groHMM_1.40.3.tar.gz StartedAt: 2025-02-04 21:56:56 -0500 (Tue, 04 Feb 2025) EndedAt: 2025-02-04 22:00:48 -0500 (Tue, 04 Feb 2025) EllapsedTime: 231.5 seconds RetCode: 0 Status: WARNINGS CheckDir: groHMM.Rcheck Warnings: 1