Package: groHMM Version: 1.40.3 Command: /Library/Frameworks/R.framework/Resources/bin/R CMD INSTALL groHMM StartedAt: 2025-02-03 15:49:53 -0500 (Mon, 03 Feb 2025) EndedAt: 2025-02-03 15:50:31 -0500 (Mon, 03 Feb 2025) EllapsedTime: 37.9 seconds RetCode: 0 Status: OK