Package: groHMM Version: 1.40.3 Command: F:\biocbuild\bbs-3.20-bioc\R\bin\R.exe CMD check --no-multiarch --install=check:groHMM.install-out.txt --library=F:\biocbuild\bbs-3.20-bioc\R\library --no-vignettes --timings groHMM_1.40.3.tar.gz StartedAt: 2025-02-04 02:30:47 -0500 (Tue, 04 Feb 2025) EndedAt: 2025-02-04 02:35:15 -0500 (Tue, 04 Feb 2025) EllapsedTime: 267.9 seconds RetCode: 0 Status: WARNINGS CheckDir: groHMM.Rcheck Warnings: 1