Package: groHMM Version: 1.40.3 Command: /home/biocbuild/R/R/bin/R CMD check --install=check:groHMM.install-out.txt --library=/home/biocbuild/R/R/site-library --no-vignettes --timings groHMM_1.40.3.tar.gz StartedAt: 2025-02-04 07:38:52 -0000 (Tue, 04 Feb 2025) EndedAt: 2025-02-04 07:43:06 -0000 (Tue, 04 Feb 2025) EllapsedTime: 253.3 seconds RetCode: 0 Status: WARNINGS CheckDir: groHMM.Rcheck Warnings: 1