Package: groHMM Version: 1.40.0 Command: /home/biocbuild/bbs-3.20-bioc/R/bin/R CMD build --keep-empty-dirs --no-resave-data groHMM StartedAt: 2024-11-19 19:21:42 -0500 (Tue, 19 Nov 2024) EndedAt: 2024-11-19 19:23:25 -0500 (Tue, 19 Nov 2024) EllapsedTime: 103.1 seconds RetCode: 1 Status: ERROR PackageFile: None PackageFileSize: NA