Package: gscreend Version: 1.20.0 Command: rm -rf gscreend.buildbin-libdir && mkdir gscreend.buildbin-libdir && /Users/biocbuild/BBS/utils/build-universal.sh gscreend_1.20.0.tar.gz /Library/Frameworks/R.framework/Resources/bin/R gscreend.buildbin-libdir StartedAt: 2025-02-04 13:06:45 -0500 (Tue, 04 Feb 2025) EndedAt: 2025-02-04 13:07:45 -0500 (Tue, 04 Feb 2025) EllapsedTime: 60.5 seconds RetCode: 0 Status: OK PackageFile: gscreend_1.20.0.tgz PackageFileSize: 3.169 MiB