Package: gscreend Version: 1.20.0 Command: rm -rf gscreend.buildbin-libdir && mkdir gscreend.buildbin-libdir && F:\biocbuild\bbs-3.20-bioc\R\bin\R.exe CMD INSTALL --build --library=gscreend.buildbin-libdir gscreend_1.20.0.tar.gz StartedAt: 2025-02-04 08:39:46 -0500 (Tue, 04 Feb 2025) EndedAt: 2025-02-04 08:40:36 -0500 (Tue, 04 Feb 2025) EllapsedTime: 50.0 seconds RetCode: 0 Status: OK PackageFile: gscreend_1.20.0.zip PackageFileSize: 3.137 MiB