Package: gscreend Version: 1.20.0 Command: F:\biocbuild\bbs-3.20-bioc\R\bin\R.exe CMD check --no-multiarch --install=check:gscreend.install-out.txt --library=F:\biocbuild\bbs-3.20-bioc\R\library --no-vignettes --timings gscreend_1.20.0.tar.gz StartedAt: 2025-02-04 02:31:24 -0500 (Tue, 04 Feb 2025) EndedAt: 2025-02-04 02:36:59 -0500 (Tue, 04 Feb 2025) EllapsedTime: 335.3 seconds RetCode: 0 Status: OK CheckDir: gscreend.Rcheck Warnings: 0