Package: gypsum Version: 1.2.0 Command: /Library/Frameworks/R.framework/Resources/bin/R CMD build --keep-empty-dirs --no-resave-data gypsum StartedAt: 2025-02-04 01:13:57 -0500 (Tue, 04 Feb 2025) EndedAt: 2025-02-04 01:14:09 -0500 (Tue, 04 Feb 2025) EllapsedTime: 12.5 seconds RetCode: 0 Status: OK PackageFile: gypsum_1.2.0.tar.gz PackageFileSize: 274.5 KiB