Package: gypsum Version: 1.2.0 Command: /home/biocbuild/bbs-3.20-bioc/R/bin/R CMD INSTALL gypsum StartedAt: 2025-02-03 15:18:12 -0500 (Mon, 03 Feb 2025) EndedAt: 2025-02-03 15:18:18 -0500 (Mon, 03 Feb 2025) EllapsedTime: 5.5 seconds RetCode: 0 Status: OK